BEGIN:VCALENDAR
VERSION:2.0
PRODID:-//wp-events-plugin.com//7.2.3.1//EN
TZID:America/Mexico_City
X-WR-TIMEZONE:America/Mexico_City
BEGIN:VEVENT
UID:38@lacaverna.net
DTSTART;TZID=America/Mexico_City:20201127T200000
DTEND;TZID=America/Mexico_City:20201127T220000
DTSTAMP:20201102T055348Z
URL:https://lacaverna.net/agenda/4-exponentes-del-rap-se-unen-en-este-show
 /
SUMMARY:¡4 exponentes del rap se unen en este show!
DESCRIPTION:El estilo urbano llega al futuro con Adán Cruz\, Richard Ahuma
 da\, MC Aese y Neto Reyno\; cuatro influyentes exponentes del rap y hip ho
 p en América Latina.\n\n
ATTACH;FMTTYPE=image/jpeg:https://lacaverna.net/wp-content/uploads/2020/10
 /Evento.jpg
CATEGORIES:Concierto
LOCATION:https://www.streamtime.store/urban-streaming
END:VEVENT
BEGIN:VTIMEZONE
TZID:America/Mexico_City
X-LIC-LOCATION:America/Mexico_City
BEGIN:STANDARD
DTSTART:20201025T010000
TZOFFSETFROM:-0500
TZOFFSETTO:-0600
TZNAME:CST
END:STANDARD
END:VTIMEZONE
END:VCALENDAR